BEGIN:VCALENDAR
VERSION:2.0
PRODID:-//dhtmlXScheduler//NONSGML v2.2//EN
X-WR-CALNAME:Events
BEGIN:VEVENT
DTSTART:20250617T160000
DTEND:20260424T132700
UID:1
SUMMARY:Szkoła Doktorska UwB - SPOTKANIE INFORMACYJNE
END:VEVENT
END:VCALENDAR