BEGIN:VCALENDAR
VERSION:2.0
PRODID:-//dhtmlXScheduler//NONSGML v2.2//EN
X-WR-CALNAME:Wydarzenia
BEGIN:VEVENT
DTSTART:20251006T000000
DTEND:20251016T000000
UID:0
SUMMARY:Biblioteka Uniwersytecka zaprasza na szkolenie biblioteczne dla studentów pierwszego roku
END:VEVENT
BEGIN:VEVENT
DTSTART:20251008T090000
DTEND:20260423T103000
UID:1
SUMMARY:Maria Pawlikowska Jasnorzewska: stereotypy i zaskoczenia - Biblioteka Uniwersytecka zaprasza na wykład
END:VEVENT
BEGIN:VEVENT
DTSTART:20251010T120000
DTEND:20260423T140000
UID:2
SUMMARY:Uroczysta inauguracja roku akademickiego 2025/2026 - dzień wolny od zajęć dydaktycznych
END:VEVENT
BEGIN:VEVENT
DTSTART:20251020T144500
DTEND:20260423T233446
UID:3
SUMMARY:Program Erasmus +
END:VEVENT
BEGIN:VEVENT
DTSTART:20251020T144500
DTEND:20260423T233446
UID:4
SUMMARY:Program Erasmus+
END:VEVENT
BEGIN:VEVENT
DTSTART:20251021T164500
DTEND:20260423T233446
UID:5
SUMMARY:Program Erasmus +
END:VEVENT
BEGIN:VEVENT
DTSTART:20251022T113000
DTEND:20260423T233446
UID:6
SUMMARY:Program Erasmus +
END:VEVENT
BEGIN:VEVENT
DTSTART:20251029T113000
DTEND:20260423T233446
UID:7
SUMMARY:Sto lat od urodzin Marii Janion
END:VEVENT
BEGIN:VEVENT
DTSTART:20251125T120000
DTEND:20260423T133000
UID:8
SUMMARY:„Białostockie odpominania” – inauguracja cyklu popularyzującego zapomnianych twórców związanych z Białymstokiem i Podlasiem
END:VEVENT
BEGIN:VEVENT
DTSTART:20251126T113000
DTEND:20260423T123000
UID:9
SUMMARY:Profilaktyka nowotworów
END:VEVENT
BEGIN:VEVENT
DTSTART:20251127T120000
DTEND:20260423T150000
UID:10
SUMMARY:Akcja „Zdrowy Andrzej”
END:VEVENT
BEGIN:VEVENT
DTSTART:20251127T180000
DTEND:20260423T193000
UID:11
SUMMARY:Wykład otwarty (MS Teams) "The AI Tsunami in Education: Navigating Innovation Without Shipwrecking Pedagogy"
END:VEVENT
BEGIN:VEVENT
DTSTART:20251128T170000
DTEND:20260423T233446
UID:12
SUMMARY:Zaproszenie na wieczór z sonetami Szekspira
END:VEVENT
BEGIN:VEVENT
DTSTART:20251201T160000
DTEND:20260423T233446
UID:13
SUMMARY:Spotkanie autorskie z Marcinem Silwanowem
END:VEVENT
BEGIN:VEVENT
DTSTART:20251207T210000
DTEND:20260423T233446
UID:14
SUMMARY:Słuchowisko Dr hab. Iwony E. Rusek, prof. UwB
END:VEVENT
BEGIN:VEVENT
DTSTART:20251208T180000
DTEND:20260423T233446
UID:15
SUMMARY:Powolna przemoc i ekologia ubogich
END:VEVENT
BEGIN:VEVENT
DTSTART:20251222T000000
DTEND:20260423T233446
UID:16
SUMMARY:Dzień rektorski - 22 grudnia 2025 r.
END:VEVENT
BEGIN:VEVENT
DTSTART:20260220T110000
DTEND:20260423T233446
UID:17
SUMMARY:Radiowy głos, telegeniczność, clickbait – jaki jest współczesny język polski w mediach?
END:VEVENT
BEGIN:VEVENT
DTSTART:20260226T110000
DTEND:20260423T233446
UID:18
SUMMARY:„Kultura" paryska Jerzego Giedroycia - lekcje nieprzedawnione
END:VEVENT
BEGIN:VEVENT
DTSTART:20260303T083000
DTEND:20260423T140000
UID:19
SUMMARY:Konferencja pt. "Powrót do korzeni – czy analogowe nauczanie jest złe?"
END:VEVENT
BEGIN:VEVENT
DTSTART:20260306T170000
DTEND:20260423T233446
UID:20
SUMMARY:Międzynarodowy Dzień Kobiet – zaproszenie na spotkanie z filmem „The Hours”
END:VEVENT
BEGIN:VEVENT
DTSTART:20260325T120000
DTEND:20260423T150000
UID:21
SUMMARY:Wydarzenie edukacyjne „Skandalistka”
END:VEVENT
BEGIN:VEVENT
DTSTART:20260414T120000
DTEND:20260423T233446
UID:22
SUMMARY:Warsztat „USA z Pierwszej Ręki” w ramach Dnia Otwartego Uniwersytetu
END:VEVENT
BEGIN:VEVENT
DTSTART:20260415T100000
DTEND:20260423T233446
UID:23
SUMMARY:I WOJEWÓDZKI KONKURS RECYTATORSKI POEZJI HISZPAŃSKOJĘZYCZNEJ dla młodzieży województwa podlaskiego
END:VEVENT
BEGIN:VEVENT
DTSTART:20260417T100000
DTEND:20260423T233446
UID:24
SUMMARY:V Seminarium Naukowe „Motywy akwatyczne w literaturze, języku i kulturze”
END:VEVENT
BEGIN:VEVENT
DTSTART:20260530T000000
DTEND:20260423T233446
UID:25
SUMMARY:Ogólnopolska Konferencja Naukowa "W KRĘGU I POZA KRĘGIEM LEKTUR SZKOLNYCH"
END:VEVENT
END:VCALENDAR