BEGIN:VCALENDAR
VERSION:2.0
PRODID:-//dhtmlXScheduler//NONSGML v2.2//EN
X-WR-CALNAME:Wydarzenia
BEGIN:VEVENT
DTSTART:20251127T120000
DTEND:20260423T150000
UID:1
SUMMARY:Akcja „Zdrowy Andrzej”
END:VEVENT
END:VCALENDAR