BEGIN:VCALENDAR
VERSION:2.0
PRODID:-//dhtmlXScheduler//NONSGML v2.2//EN
X-WR-CALNAME:Wydarzenia
BEGIN:VEVENT
DTSTART:20260427T093000
DTEND:20260428T000000
UID:1
SUMMARY:Dni z Polonistyką (27-28 kwietnia 2026)
END:VEVENT
END:VCALENDAR