BEGIN:VCALENDAR
VERSION:2.0
PRODID:-//dhtmlXScheduler//NONSGML v2.2//EN
X-WR-CALNAME:Wydarzenia
BEGIN:VEVENT
DTSTART:20251222T000000
DTEND:20260423T055112
UID:1
SUMMARY:Dzień rektorski - 22 grudnia 2025 r.
END:VEVENT
END:VCALENDAR