BEGIN:VCALENDAR
VERSION:2.0
PRODID:-//dhtmlXScheduler//NONSGML v2.2//EN
X-WR-CALNAME:Wydarzenia
BEGIN:VEVENT
DTSTART:20251106T090000
DTEND:20251107T140000
UID:1
SUMMARY:II Międzynarodowa Konferencja Naukowa "Horyzonty slawistyki w XXI wieku – stan obecny i perspektywy rozwoju"
END:VEVENT
END:VCALENDAR