BEGIN:VCALENDAR
VERSION:2.0
PRODID:-//dhtmlXScheduler//NONSGML v2.2//EN
X-WR-CALNAME:Wydarzenia
BEGIN:VEVENT
DTSTART:20250926T093000
DTEND:20260423T161000
UID:1
SUMMARY:Konferencja: „Makryna Mieczysławska Historia – literatura – recepcja”
END:VEVENT
END:VCALENDAR