BEGIN:VCALENDAR
VERSION:2.0
PRODID:-//dhtmlXScheduler//NONSGML v2.2//EN
X-WR-CALNAME:Wydarzenia
BEGIN:VEVENT
DTSTART:20240115T000000
DTEND:20260425T033926
UID:1
SUMMARY:Konferencja literaturoznawcza EUROPEAN BEAT STUDIES NETWORK 12th Annual Conference “The Beats: Wilderness and Wildness”
END:VEVENT
END:VCALENDAR