BEGIN:VCALENDAR
VERSION:2.0
PRODID:-//dhtmlXScheduler//NONSGML v2.2//EN
X-WR-CALNAME:Wydarzenia
BEGIN:VEVENT
DTSTART:20251204T000000
DTEND:20251205T000000
UID:1
SUMMARY:Międzynarodowa Konferencja Naukowa TALC 8
END:VEVENT
END:VCALENDAR