BEGIN:VCALENDAR
VERSION:2.0
PRODID:-//dhtmlXScheduler//NONSGML v2.2//EN
X-WR-CALNAME:Wydarzenia
BEGIN:VEVENT
DTSTART:20240208T110000
DTEND:20260425T000013
UID:1
SUMMARY:Ogłoszenie o zebraniu wyborczym z grupy profesorów i profesorów uczelni
END:VEVENT
END:VCALENDAR