BEGIN:VCALENDAR
VERSION:2.0
PRODID:-//dhtmlXScheduler//NONSGML v2.2//EN
X-WR-CALNAME:Wydarzenia
BEGIN:VEVENT
DTSTART:20251021T164500
DTEND:20260423T084636
UID:1
SUMMARY:Program Erasmus +
END:VEVENT
END:VCALENDAR