BEGIN:VCALENDAR
VERSION:2.0
PRODID:-//dhtmlXScheduler//NONSGML v2.2//EN
X-WR-CALNAME:Wydarzenia
BEGIN:VEVENT
DTSTART:20251207T210000
DTEND:20260423T085458
UID:1
SUMMARY:Słuchowisko Dr hab. Iwony E. Rusek, prof. UwB
END:VEVENT
END:VCALENDAR