BEGIN:VCALENDAR
VERSION:2.0
PRODID:-//dhtmlXScheduler//NONSGML v2.2//EN
X-WR-CALNAME:Wydarzenia
BEGIN:VEVENT
DTSTART:20260430T131500
DTEND:20260424T134630
UID:1
SUMMARY:Spotkanie z cyklu „Prelekcje Mistrzów”
END:VEVENT
END:VCALENDAR