BEGIN:VCALENDAR
VERSION:2.0
PRODID:-//dhtmlXScheduler//NONSGML v2.2//EN
X-WR-CALNAME:Wydarzenia
BEGIN:VEVENT
DTSTART:20260423T090000
DTEND:20260424T000000
UID:1
SUMMARY:Twórczość i biografia Edwarda Redlińskiego. Rekapitulacje, rewizje, reaktywacje
END:VEVENT
END:VCALENDAR